BEGIN:VCALENDAR
VERSION:2.0
PRODID:-//eventon.com NONSGML v1.0//EN
BEGIN:VEVENT
UID:69eb590fd95c3
DTSTAMP:20260424T135039
DTSTART:20230307T083000Z
DTEND:20230307T140000Z
TZID:Europe/Paris
LOCATION:
SUMMARY:GRAND PARCOURS : CHALLENGE HIVERNAL 2022-2023 KBZ vs ODET
DESCRIPTION: Formule de jeu : STABLEFORD. Départs en Shotgun à 9h30.
URL:https://www.golfdekerbernez.com/events/grand-parcours-challenge-hivernal-2022-2023-kbz-vs-odet/
END:VEVENT
END:VCALENDAR