BEGIN:VCALENDAR
VERSION:2.0
PRODID:-//eventon.com NONSGML v1.0//EN
BEGIN:VEVENT
UID:69e4e63abb1c1
DTSTAMP:20260419T162706
DTSTART:20240323T083000Z
DTEND:20240323T153000Z
TZID:Europe/Paris
LOCATION:
SUMMARY:GRAND PARCOURS : FINISTOUR (JEUNES)
DESCRIPTION: GRAND PARCOURS : FINISTOUR (JEUNES)
URL:https://www.golfdekerbernez.com/events/grand-parcours-finistour-jeunes/
END:VEVENT
END:VCALENDAR