BEGIN:VCALENDAR
VERSION:2.0
PRODID:-//eventon.com NONSGML v1.0//EN
BEGIN:VEVENT
UID:69e6c3b117187
DTSTAMP:20260421T022417
DTSTART:20240429
DTEND:20240430
TZID:Europe/Paris
LOCATION:
SUMMARY:GRAND PARCOURS : CHALLENGE DU FINISTÈRE : KBZ REÇOIT LANNIRON/CARHAIX
DESCRIPTION: GRAND PARCOURS : CHALLENGE DU FINISTÈRE : KBZ REÇOIT LANNIRON/CARHAIX
URL:https://www.golfdekerbernez.com/events/grand-parcours-challenge-du-finistere-kbz-recoit-lanniron/
END:VEVENT
END:VCALENDAR