BEGIN:VCALENDAR
VERSION:2.0
PRODID:-//eventon.com NONSGML v1.0//EN
BEGIN:VEVENT
UID:69eb208ebcfa0
DTSTAMP:20260424T094934
DTSTART:20260424T110000Z
DTEND:20260424T140000Z
TZID:Europe/Paris
LOCATION:
SUMMARY:PITCH & PUTT : SUPER CHALLENGE T6 (SESSION 1)
DESCRIPTION: PITCH & PUTT : SUPER CHALLENGE T6 (SESSION 1)
URL:https://www.golfdekerbernez.com/events/pitch-putt-super-challenge-t6-session-1/
END:VEVENT
END:VCALENDAR