BEGIN:VCALENDAR
VERSION:2.0
PRODID:-//eventon.com NONSGML v1.0//EN
BEGIN:VEVENT
UID:69eb216967dd3
DTSTAMP:20260424T095313
DTSTART:20260502T110000Z
DTEND:20260502T113000Z
TZID:Europe/Paris
LOCATION:
SUMMARY:LADIES DAY 7
DESCRIPTION: Départs en décalés de 13h00 à 13h30. Possibilité de faire 2&#215;9 trous avec second départ de 15h00 à 15h30
URL:https://www.golfdekerbernez.com/events/ladies-day-7/
END:VEVENT
END:VCALENDAR